BEGIN:VCALENDAR
VERSION:2.0
PRODID:-//https://www.klangkiga-st-elisabeth.de///NONSGML kigkonsult.se iCalcreator 2.10.15//
METHOD:PUBLISH
BEGIN:VEVENT
UID:20260425T172330CEST-321812MX1X@https://www.klangkiga-st-elisabeth.de/
DTSTAMP:20260425T152330Z
DESCRIPTION: https://www.klangkiga-st-elisabeth.de/aktuelles/kalender/event
 /219-sommerfest
DTSTART;VALUE=DATE:20210709
LOCATION:Katholischer Klangkindergarten St. Elisabeth (Bohlleitenweg 44\, 9
 7082 Würzburg\, Deutschland)
SUMMARY:Sommerfest
URL:https://www.klangkiga-st-elisabeth.de/aktuelles/kalender/event/219-somm
 erfest
END:VEVENT
END:VCALENDAR
